BEGIN:VCALENDAR
VERSION:2.0
PRODID:-//Mountainbike-Club Beinhart e.V. - ECPv5.14.1//NONSGML v1.0//EN
CALSCALE:GREGORIAN
METHOD:PUBLISH
X-WR-CALNAME:Mountainbike-Club Beinhart e.V.
X-ORIGINAL-URL:https://www.mtb-beinhart.de
X-WR-CALDESC:Veranstaltungen für Mountainbike-Club Beinhart e.V.
REFRESH-INTERVAL;VALUE=DURATION:PT1H
X-Robots-Tag:noindex
X-PUBLISHED-TTL:PT1H
BEGIN:VTIMEZONE
TZID:Europe/Berlin
BEGIN:DAYLIGHT
TZOFFSETFROM:+0100
TZOFFSETTO:+0200
TZNAME:CEST
DTSTART:20190331T010000
END:DAYLIGHT
BEGIN:STANDARD
TZOFFSETFROM:+0200
TZOFFSETTO:+0100
TZNAME:CET
DTSTART:20191027T010000
END:STANDARD
BEGIN:DAYLIGHT
TZOFFSETFROM:+0100
TZOFFSETTO:+0200
TZNAME:CEST
DTSTART:20200329T010000
END:DAYLIGHT
BEGIN:STANDARD
TZOFFSETFROM:+0200
TZOFFSETTO:+0100
TZNAME:CET
DTSTART:20201025T010000
END:STANDARD
BEGIN:DAYLIGHT
TZOFFSETFROM:+0100
TZOFFSETTO:+0200
TZNAME:CEST
DTSTART:20210328T010000
END:DAYLIGHT
BEGIN:STANDARD
TZOFFSETFROM:+0200
TZOFFSETTO:+0100
TZNAME:CET
DTSTART:20211031T010000
END:STANDARD
TZID:UTC
BEGIN:STANDARD
TZOFFSETFROM:+0000
TZOFFSETTO:+0000
TZNAME:UTC
DTSTART:20200101T000000
END:STANDARD
END:VTIMEZONE
BEGIN:VEVENT
DTSTART;TZID=Europe/Berlin:20211114T103000
DTEND;TZID=Europe/Berlin:20211114T160000
DTSTAMP:20260420T081408
CREATED:20211110T163947Z
LAST-MODIFIED:20211110T163949Z
UID:19532-1636885800-1636905600@www.mtb-beinhart.de
SUMMARY:Bad-Kreuznach Runde am 14.11.2021
DESCRIPTION:Hallo Beinharte und Sympathisanten\, \n\n\n\nam 14.11.2021 biete ich die erste Sonntagstour des Jahres an. Zu diesem Anlass fahren wir in guter  Beinhart-Tradition die  „Bad-Kreuznach“ Silbersee-Rundfahrt.. \n\n\n\nLos geht es um 10:30 Uhr. \n\n\n\nDie Streckendaten: ca. 40 km\, ca. 900 hm. \n\n\n\nVoraussetzungen zur Teilnahme sind ein funktionstüchtiges MTB\, ein Helm auf dem Kopf und Spaß am gemeinsamen Mountainbiken. \n\n\n\nBei unbrauchbarem Wetter kommt eine Absage am Vortag. \n\n\n\nAnmeldungen und Treffpunkt und weitere Absprachen bitte über E-Mail (Andreas_Wald24@yahoo.de) \n\n\n\nGruß Andreas
URL:https://www.mtb-beinhart.de/event/bad-kreuznach-runde-am-14-11-2021/
CATEGORIES:Tagestour
END:VEVENT
BEGIN:VEVENT
DTSTART;TZID=Europe/Berlin:20210715T183000
DTEND;TZID=Europe/Berlin:20210715T203000
DTSTAMP:20260420T081408
CREATED:20210706T132100Z
LAST-MODIFIED:20210713T123949Z
UID:19509-1626373800-1626381000@www.mtb-beinhart.de
SUMMARY:Biketreff 2021
DESCRIPTION:Biketreff Donnerstags 18:30 im GoWa
URL:https://www.mtb-beinhart.de/event/biketreff-2021-2-2-2-2-3-2/
LOCATION:Gonsenheimer Wald (mit Lennebergwald)\, Kapellenstr. 56\, Mainz-Gonsenheim\, 55124\, Deutschland
CATEGORIES:Biketreff 2021
END:VEVENT
BEGIN:VEVENT
DTSTART;TZID=Europe/Berlin:20210713T183000
DTEND;TZID=Europe/Berlin:20210713T203000
DTSTAMP:20260420T081408
CREATED:20210706T132100Z
LAST-MODIFIED:20210713T123819Z
UID:19507-1626201000-1626208200@www.mtb-beinhart.de
SUMMARY:Biketreff 2021
DESCRIPTION:Biketreff Dienstag 18:30 im GoWa
URL:https://www.mtb-beinhart.de/event/biketreff-2021-2-2-2-2-2-2/
LOCATION:Gonsenheimer Wald (mit Lennebergwald)\, Kapellenstr. 56\, Mainz-Gonsenheim\, 55124\, Deutschland
CATEGORIES:Biketreff 2021
END:VEVENT
BEGIN:VEVENT
DTSTART;TZID=Europe/Berlin:20210708T183000
DTEND;TZID=Europe/Berlin:20210708T203000
DTSTAMP:20260420T081408
CREATED:20210706T132100Z
LAST-MODIFIED:20210706T143456Z
UID:19502-1625769000-1625776200@www.mtb-beinhart.de
SUMMARY:Biketreff 2021
DESCRIPTION:Biketreff Donnerstags 18:30 im GoWa
URL:https://www.mtb-beinhart.de/event/biketreff-2021-2-2-2-2-3/
LOCATION:Gonsenheimer Wald (mit Lennebergwald)\, Kapellenstr. 56\, Mainz-Gonsenheim\, 55124\, Deutschland
CATEGORIES:Biketreff 2021
END:VEVENT
BEGIN:VEVENT
DTSTART;TZID=Europe/Berlin:20210706T183000
DTEND;TZID=Europe/Berlin:20210706T203000
DTSTAMP:20260420T081408
CREATED:20210706T132100Z
LAST-MODIFIED:20210706T143344Z
UID:19499-1625596200-1625603400@www.mtb-beinhart.de
SUMMARY:Biketreff 2021
DESCRIPTION:Biketreff Dienstag 18:30 im GoWa
URL:https://www.mtb-beinhart.de/event/biketreff-2021-2-2-2-2-2/
LOCATION:Gonsenheimer Wald (mit Lennebergwald)\, Kapellenstr. 56\, Mainz-Gonsenheim\, 55124\, Deutschland
CATEGORIES:Biketreff 2021
END:VEVENT
BEGIN:VEVENT
DTSTART;TZID=Europe/Berlin:20210701T183000
DTEND;TZID=Europe/Berlin:20210701T203000
DTSTAMP:20260420T081408
CREATED:20210614T132111Z
LAST-MODIFIED:20210626T110027Z
UID:19497-1625164200-1625171400@www.mtb-beinhart.de
SUMMARY:Biketreff 2021
DESCRIPTION:Biketreff Donnerstags 18:30 im GoWa
URL:https://www.mtb-beinhart.de/event/biketreff-2021-2-2-2-2/
LOCATION:Gonsenheimer Wald (mit Lennebergwald)\, Kapellenstr. 56\, Mainz-Gonsenheim\, 55124\, Deutschland
CATEGORIES:Biketreff 2021
END:VEVENT
BEGIN:VEVENT
DTSTART;TZID=Europe/Berlin:20210629T183000
DTEND;TZID=Europe/Berlin:20210629T200000
DTSTAMP:20260420T081408
CREATED:20210614T132111Z
LAST-MODIFIED:20210626T105859Z
UID:19495-1624991400-1624996800@www.mtb-beinhart.de
SUMMARY:Biketreff 2021
DESCRIPTION:Biketreff Donnerstags 18:30 im GoWa
URL:https://www.mtb-beinhart.de/event/biketreff-2021-2-2-3/
LOCATION:Gonsenheimer Wald (mit Lennebergwald)\, Kapellenstr. 56\, Mainz-Gonsenheim\, 55124\, Deutschland
CATEGORIES:Biketreff 2021
END:VEVENT
BEGIN:VEVENT
DTSTART;TZID=Europe/Berlin:20210624T183000
DTEND;TZID=Europe/Berlin:20210624T203000
DTSTAMP:20260420T081408
CREATED:20210614T132111Z
LAST-MODIFIED:20210617T125919Z
UID:19487-1624559400-1624566600@www.mtb-beinhart.de
SUMMARY:Biketreff 2021
DESCRIPTION:Biketreff Donnerstags 18:30 im GoWa
URL:https://www.mtb-beinhart.de/event/biketreff-2021-2-2-2/
LOCATION:Gonsenheimer Wald (mit Lennebergwald)\, Kapellenstr. 56\, Mainz-Gonsenheim\, 55124\, Deutschland
CATEGORIES:Biketreff 2021
END:VEVENT
BEGIN:VEVENT
DTSTART;TZID=Europe/Berlin:20210622T183000
DTEND;TZID=Europe/Berlin:20210622T200000
DTSTAMP:20260420T081408
CREATED:20210614T132111Z
LAST-MODIFIED:20210616T154447Z
UID:19474-1624386600-1624392000@www.mtb-beinhart.de
SUMMARY:Biketreff 2021
DESCRIPTION:Biketreff Donnerstags 18:30 im GoWa
URL:https://www.mtb-beinhart.de/event/biketreff-2021-2-2/
LOCATION:Gonsenheimer Wald (mit Lennebergwald)\, Kapellenstr. 56\, Mainz-Gonsenheim\, 55124\, Deutschland
CATEGORIES:Biketreff 2021
END:VEVENT
BEGIN:VEVENT
DTSTART;TZID=Europe/Berlin:20210617T183000
DTEND;TZID=Europe/Berlin:20210617T200000
DTSTAMP:20260420T081408
CREATED:20210614T132111Z
LAST-MODIFIED:20210617T124411Z
UID:19451-1623954600-1623960000@www.mtb-beinhart.de
SUMMARY:Aufgrund der extremen Temperatur findet heute KEIN Biketreff statt.
DESCRIPTION:
URL:https://www.mtb-beinhart.de/event/biketreff-2021-2/
LOCATION:Gonsenheimer Wald (mit Lennebergwald)\, Kapellenstr. 56\, Mainz-Gonsenheim\, 55124\, Deutschland
CATEGORIES:Biketreff 2021
END:VEVENT
BEGIN:VEVENT
DTSTART;TZID=Europe/Berlin:20210615T183000
DTEND;TZID=Europe/Berlin:20210615T203000
DTSTAMP:20260420T081408
CREATED:20210614T132111Z
LAST-MODIFIED:20210614T170352Z
UID:19449-1623781800-1623789000@www.mtb-beinhart.de
SUMMARY:Biketreff 2021
DESCRIPTION:Biketreff Dienstags ab 18:30 im GoWa
URL:https://www.mtb-beinhart.de/event/biketreff-2021/
LOCATION:Gonsenheimer Wald (mit Lennebergwald)\, Kapellenstr. 56\, Mainz-Gonsenheim\, 55124\, Deutschland
CATEGORIES:Biketreff 2021
END:VEVENT
BEGIN:VEVENT
DTSTART;TZID=Europe/Berlin:20201031T110000
DTEND;TZID=Europe/Berlin:20201031T160000
DTSTAMP:20260420T081408
CREATED:20201027T185347Z
LAST-MODIFIED:20201027T185349Z
UID:19311-1604142000-1604160000@www.mtb-beinhart.de
SUMMARY:Saisonabschluss am Flowtrail Stromberg
DESCRIPTION:Treff 11.00 Uhr P4
URL:https://www.mtb-beinhart.de/event/saisonabschluss-am-flowtrail-stromberg/
END:VEVENT
BEGIN:VEVENT
DTSTART;TZID=Europe/Berlin:20201004T100000
DTEND;TZID=Europe/Berlin:20201004T170000
DTSTAMP:20260420T081408
CREATED:20200922T215553Z
LAST-MODIFIED:20200922T220708Z
UID:19286-1601805600-1601830800@www.mtb-beinhart.de
SUMMARY:Beinhart-Tagestour Richtung Ingelheim
DESCRIPTION:Am 04.10.2020 steht eine Beinhart-Tour Richtung Ingelheim an. \n\n\n\nLos geht es um 10:00 Uhr in Mainz-Finthen am Wertstoffhof vor der Fontanastube. Dort gibt es auch Parkmöglichkeiten. Die Strecke beträgt: ca. 40 km\, ca. 900 hm. Es geht in gemütlichem Tempo über Umwege nach Ingelheim zum Bismarckturm. \n\n\n\nDanach streifen wir Gau Algesheim und fahren über Hof Westerberg nach Schwabenheim. Von dort geht es wieder zurück zum Bismarckturm und am Rhein lang über Heidesheim zurück zum Start. Die Strecke enthält mehrere eher kurze\, aber zum Teil „knackige“ Anstiege\, die jeder in seinem eigenem Tempo bewältigen kann. Am Rhein gibt es mehre Einkehrmöglichkeiten z.B. die idyllisch gelegene Rheinschänke zwischen Ingelheim und Heidefahrt.  \n\n\n\nWer daran teilnehmen möchte\, sollte evtl. an Wechselklamotten denken. Voraussetzungen zur Teilnahme sind ein funktionstüchtiges MTB\, ein Helm auf dem Kopf und Spaß am gemeinsamen Fahren. Die max. Teilnehmerzahl liegt bei 10 Beinharten incl. Guide. Bei unbrauchbarem Wetter kommt spätestens am Vortag eine Absage. \n\n\n\nGäste sind natürlich herzlich willkommen und können sich unter der Kommentarfunktion https://www.mtb-beinhart.de/kontakt anmelden.
URL:https://www.mtb-beinhart.de/event/beinhart-tagestour-richtung-ingelheim/
END:VEVENT
BEGIN:VEVENT
DTSTART;TZID=Europe/Berlin:20200926T000000
DTEND;TZID=Europe/Berlin:20201007T235900
DTSTAMP:20260420T081408
CREATED:20200727T234401Z
LAST-MODIFIED:20200729T084047Z
UID:19046-1601078400-1602115140@www.mtb-beinhart.de
SUMMARY:Finale Ligure ab 26.09.2020 (7-11 Tage)
DESCRIPTION:Details hier: \n\n\n\n\nhttps://www.mtb-beinhart.de/2020/02/02/finale-ligure-ab-26-09-2020-7-11-tage/\n\n\n\n\nMatthias
URL:https://www.mtb-beinhart.de/event/finale-ligure-7-10-tage/
CATEGORIES:Wochentour
END:VEVENT
BEGIN:VEVENT
DTSTART;TZID=UTC:20200828T080000
DTEND;TZID=UTC:20200829T170000
DTSTAMP:20260420T081408
CREATED:20200728T084400Z
LAST-MODIFIED:20200729T084958Z
UID:19170-1598601600-1598720400@www.mtb-beinhart.de
SUMMARY:Rund um Dahn
DESCRIPTION:Details hier: \n\n\n\n\n(ABSAGE) Pfalzcross „rund um Dahn“ am 29/30 August 2020
URL:https://www.mtb-beinhart.de/event/rund-um-dahn/
END:VEVENT
BEGIN:VEVENT
DTSTART;TZID=Europe/Berlin:20200815T000000
DTEND;TZID=Europe/Berlin:20200822T235900
DTSTAMP:20260420T081410
CREATED:20200202T003435Z
LAST-MODIFIED:20200729T100901Z
UID:19041-1597449600-1598140740@www.mtb-beinhart.de
SUMMARY:Wochentour Vinschgau ab 15.08.2020
DESCRIPTION:Details hier: \n\n\n\n\nhttps://www.mtb-beinhart.de/2020/02/02/vinschgau-vom-15-22-08-2020/
URL:https://www.mtb-beinhart.de/event/wochentour-vinschgau/
CATEGORIES:Wochentour
END:VEVENT
BEGIN:VEVENT
DTSTART;TZID=Europe/Berlin:20200329T000000
DTEND;TZID=Europe/Berlin:20200329T235900
DTSTAMP:20260420T081410
CREATED:20200204T174917Z
LAST-MODIFIED:20200319T152738Z
UID:19091-1585440000-1585526340@www.mtb-beinhart.de
SUMMARY:Beinhart Saison Opening abgesagt
DESCRIPTION:
URL:https://www.mtb-beinhart.de/event/beinhart-saison-opening-2/
CATEGORIES:Saison-Opening
END:VEVENT
BEGIN:VEVENT
DTSTART;TZID=Europe/Berlin:20200228T190000
DTEND;TZID=Europe/Berlin:20200228T210000
DTSTAMP:20260420T081410
CREATED:20200207T084903Z
LAST-MODIFIED:20200207T084905Z
UID:19099-1582916400-1582923600@www.mtb-beinhart.de
SUMMARY:Mitgliederversammlung am 28.02.2020
DESCRIPTION:Einladung zur Mitgliederversammlung
URL:https://www.mtb-beinhart.de/event/mitgliederversammlung-am-28-02-2020/
END:VEVENT
BEGIN:VEVENT
DTSTART;TZID=Europe/Berlin:20191229T103000
DTEND;TZID=Europe/Berlin:20191229T170000
DTSTAMP:20260420T081410
CREATED:20191227T181151Z
LAST-MODIFIED:20191227T181153Z
UID:18987-1577615400-1577638800@www.mtb-beinhart.de
SUMMARY:Donnersbergtour
DESCRIPTION:Hallo Beinharte und\nSympathisanten\, \n \n\n\n\nam 29.12.2019 findet\nwieder eine Sonntagtour statt. Dieses mal begeben wir uns  auf eine\nRunde um den Donnersberg. \n\n\n\nLos geht es um 10:30\nUhr am Parkplatz Bastenhaus. \n\n\n\nDie Streckendaten:\nca. 30 km\, ca. 1000 hm. \n\n\n\nTourbeschreibung: \n\n\n\nLos geht’s am\nParkplatz Bastenhaus . Meist fahren wir auf flowigen Trails an\nverscheidenen Aussichtspunkten vorbei bis zur Einkehr\nKupferberghütte. Dann weiter über Königsstuhl zurück zum\nAusgangspunkt.  Nach ungefähr 5 Std. sollten wir wieder am Parkplatz\nankommen. \n\n\n\nVoraussetzungen zur\nTeilnahme sind ein funktionstüchtiges MTB\, ein Helm auf dem Kopf und\nSpaß an flowigen Trails und technischen Herausforderungen.\nProtektoren können benutz werden ( für An- und Ausziehpausen wird\ngesorgt). Vom Tempo her ist lockeres Level 2 angedacht.\n\n \n\n\n\nGäste sind natürlich\nherzlich Willkommen und können sich unter info@mtb-beinhart.de\nanmelden. Mitglieder melden sich mit einem kurzen Kommentar an. \n\n\n\nGruß Andreas
URL:https://www.mtb-beinhart.de/event/donnersbergtour/
CATEGORIES:Tagestour
END:VEVENT
BEGIN:VEVENT
DTSTART;TZID=Europe/Berlin:20190922T100000
DTEND;TZID=Europe/Berlin:20190922T170000
DTSTAMP:20260420T081410
CREATED:20190916T084953Z
LAST-MODIFIED:20190916T085459Z
UID:18852-1569146400-1569171600@www.mtb-beinhart.de
SUMMARY:Jagdschloss Platte\, Wiesbaden\, 22.09.19
DESCRIPTION:Treffpunkt: Talstation der Nerobergbahn\, um 10 Uhr \n\n\n\nStreckendaten: ca. 900 Höhenmeter und 35km \n\n\n\n\n\n\n\nWir fahren ab der Talstation der Nerobergbahn entlang des Nerotals zur Räuber Leichtweißhöhle und von dort über das Naturschutzgebiet Rabengrund zum Jagdschloss Platte. Weiter geht es nochmals kurz anstrengend zu einem flowigen Trail ins Goldsteintal. Wir kurbeln uns wieder hoch und fahren zurück ins Nerotal.  \n\n\n\n\n\n\n\nWir bewegen uns hauptsächlich auf Single-Trails. Steine und Wurzeln sollte man mögen. Protektoren sind nicht unbedingt notwendig\, verleihen aber Sicherheit. \n\n\n\nVoraussetzungen zur Teilnahme sind ein funktionstüchtiges MTB\, ein Helm auf dem Kopf und Spaß am gemeinsamen Mountainbiken. \n\n\n\nGäste sind herzlich Willkommen und melden Sich bitte per E-Mail unter info@mtb-Beinhart.de an. Mitglieder können sich hier anmelden. \n\n\n\nGerd
URL:https://www.mtb-beinhart.de/event/jagdschloss-wiesbaden/
CATEGORIES:Tagestour
ATTACH;FMTTYPE=image/jpeg:https://www.mtb-beinhart.de/wp-content/uploads/2019/03/Platte2018.jpg
END:VEVENT
BEGIN:VEVENT
DTSTART;TZID=Europe/Berlin:20190914T133000
DTEND;TZID=Europe/Berlin:20190914T170000
DTSTAMP:20260420T081410
CREATED:20190910T150445Z
LAST-MODIFIED:20190910T150857Z
UID:18837-1568467800-1568480400@www.mtb-beinhart.de
SUMMARY:Club-Tour am Samstag den 14.09.19 um Kreuznach
DESCRIPTION:Hallo Beinharte und\nSympathisanten\, \n \n\n\n\nam 14.09.2019 möchte ich gerne eine Tour in und um Bad-Kreuznach fahren. Wer macht mit? \n\n\n\nLos geht es um 13:30 Uhr am Parkplatz an der Nahe in Kreuznach.   \n\n\n\nDie Streckendaten:\nca. 25 km\, ca. 850 hm. \n \n\n\n\nTourbeschreibung: \n\n\n\nDie Tour wird am Parkplatz in der Nähe der Salinen starten\, dann geht’s zum Rotenfels und zur Alten Baumburg. Nach ungefähr 3\,0 Std. sollten wir wieder am Parkplatz ankommen. \n\n\n\nVoraussetzungen zur Teilnahme sind ein funktionstüchtiges MTB\, ein Helm auf dem Kopf und Spaß am gemeinsamen Mountainbiken. \n\n\n\nGäste sind natürlich herzlich Willkommen und melden Sich bitte per E-Mail unter info@mtb-Beinhart.de an. Mitglieder können sich hier anmelden. \n\n\n\nBei unbrauchbarem\nWetter kommt eine Absage am Vortag. \n \n\n\n\nGruß Andreas
URL:https://www.mtb-beinhart.de/event/club-tour-am-samstag-den-14-09-19-um-kreuznach/
CATEGORIES:Tagestour
ATTACH;FMTTYPE=image/jpeg:https://www.mtb-beinhart.de/wp-content/uploads/2019/09/rotenfels-bad-muenster-am-stein-810x608.jpg
END:VEVENT
BEGIN:VEVENT
DTSTART;TZID=Europe/Berlin:20190908T100000
DTEND;TZID=Europe/Berlin:20190908T170000
DTSTAMP:20260420T081410
CREATED:20190818T213042Z
LAST-MODIFIED:20190819T084100Z
UID:18777-1567936800-1567962000@www.mtb-beinhart.de
SUMMARY:Auf schönen Pfaden zwischen Main und Lahn..
DESCRIPTION:Liebe Beinharte\, \n\n\n\nwie Ihr seht\, habe ich durch das Ändern dreier Buchstaben den Ort für diese schon länger angekündigte Tour geringfügig  nach Osten verlegt. Ort der Handlung ist also nun der schöne Taunus\, der uns Bikern doch auch einiges bieten kann. \n\n\n\nStreckenbeschreibungDie Strecke ist ein lustiges Auf und Ab in der Gegend von Eppstein\, Langenhain und Kelkheim\, meist natürlich auf schönen Trails. Diese sind nicht allzu schwer und auch für E-MTBs machbar\, aber eine gute Bike-Beherrschung ist natürlich trotzdem Pflicht. Insgesamt soll die Strecke 45 km und 1300 Höhenmetern nicht überschreiten. \n\n\n\n \n\n\n\n\n\n\n\nStartzeit- und OrtSonntag\, der 08.September 2019 um 10:00 Uhr in Hofheim am Taunus  – Busbahnhof vor dem Bahnhof (siehe Link). Parken ist dort schwierig\, ggf. etwas außerhalb parken und dort hinrollen. Die Rückkehr ist bis 17:00 Uhr geplant. \n\n\n\nAusrüstung:Wie immer dürfen nur Helmträger mit. Ersatzschlauch\, ausreichend Wasser und Kraftfutter werden empfohlen – denn die optionale Einkehr wird voraussichtlich erst am ENDE der Tour stattfinden. \n\n\n\n Teilnehmer:Die maximale Teilnehmerzahl beträgt 12 Biker(innen). Da es sich hierbei um eine Clubtour handelt\, werden Clubmitglieder bevorzugt behandelt. Gäste sind dann willkommen\, wenn die Teilnehmerzahl durch Clubmitglieder nicht erreicht wird. \n\n\n\nAnmeldungen und Absage:Hier auf der Clubseite. Eine wetterbedingte Absage erfolgt ggf. bis 8:00 Uhr ebendort. \n\n\n\nAlso – nur nicht drängeln bei der Anmeldung… \n\n\n\nViel Spaß allen Teilnehmern wünscht Clemens alias NoTraining
URL:https://www.mtb-beinhart.de/event/auf-schoenen-pfaden-zwischen-main-und-lahn/
CATEGORIES:Tagestour
ATTACH;FMTTYPE=image/jpeg:https://www.mtb-beinhart.de/wp-content/uploads/2019/08/Kaisertempel_eppstein.jpg
END:VEVENT
BEGIN:VEVENT
DTSTART;TZID=Europe/Berlin:20190831T160000
DTEND;TZID=Europe/Berlin:20190831T220000
DTSTAMP:20260420T081410
CREATED:20190718T130057Z
LAST-MODIFIED:20190718T133353Z
UID:18722-1567267200-1567288800@www.mtb-beinhart.de
SUMMARY:Beinhartes Sommerfest am 31.08.2019
DESCRIPTION:Beinhartes Sommerfest am 31.08.2019 „Chill & Grill“
URL:https://www.mtb-beinhart.de/event/beinhartes-sommerfest-am-31-08-2019/
END:VEVENT
BEGIN:VEVENT
DTSTART;TZID=Europe/Berlin:20190810T000000
DTEND;TZID=Europe/Berlin:20190817T235900
DTSTAMP:20260420T081410
CREATED:20190413T072352Z
LAST-MODIFIED:20190611T155517Z
UID:18208-1565395200-1566086340@www.mtb-beinhart.de
SUMMARY:[Clubtour] Münstertal\, same same but different
DESCRIPTION:Wie auch im letzten Jahr schon\, geht es im August wieder hoch hinaus. Wir beradeln die Ecke am Stilfserjoch und die weitläufige Umgebung. \nTeilweise sind wir auf über 3000m Höhe unterwegs und genießen ein atemberaubendes Panorama.\nCo-Guide Thomas und ich führen Euch zu diesen Leckerbissen die diese Ecke zu bieten hat.\nHiglights wie \n\nUinaschlucht\nGoldseetrail\nForcola\, Val Mora\nTibettrail\nMadritschjoch\n\nstehen auf dem Programm \nDie Touren haben alle zwischen 80-100Km und über 2000hm\, teilweise sogar 2800.\nDaher ist diese Wochentour nur für fortgeschrittene MTB Fahrer mit guter Fahrtechnik und sehr guter Kondition geeignet.\nSorry\, wenn ich dem Einen oder Anderen schon abgesagt habe\, oder dies noch tun werde. *** \nHotelkosten ca. 65€ für HP/Person/Tag im DZ. \n***\nVielleicht klappt es im Herbst noch mit einer weiteren Tourenwoche in den Südvogesen. Dort warten unendlich lange und flowige Singletrails darauf befahren zu werden. Wer Interesse hat\, bitte melden.
URL:https://www.mtb-beinhart.de/event/clubtour-muenstertal-same-same-but-different/
CATEGORIES:Wochentour
ATTACH;FMTTYPE=image/jpeg:https://www.mtb-beinhart.de/wp-content/uploads/2019/04/20180813_083519-mk.jpg
ORGANIZER;CN="Matthias":MAILTO:matthias.knopf@gmx.de
END:VEVENT
BEGIN:VEVENT
DTSTART;TZID=Europe/Berlin:20190713T080000
DTEND;TZID=Europe/Berlin:20190714T190000
DTSTAMP:20260420T081410
CREATED:20190325T062158Z
LAST-MODIFIED:20190718T135605Z
UID:17804-1563004800-1563130800@www.mtb-beinhart.de
SUMMARY:[Clubtour] Wochenendtour ins Elwetritsche-Land
DESCRIPTION:Wochenendtour vom 13-14. Juli 2019: „Elwetritsche-Land“\n\nGuide Clemens (NoTraining)
URL:https://www.mtb-beinhart.de/event/rocken-im-elwetritsche-land/
LOCATION:Bahnhof in Hauenstein\, Falkenburgstr. 8 / 49\,199059\, 7\,849468\, Hauenstein\,Wilgartswiesen\, Pfalz\, 76848\, Deutschland
CATEGORIES:Wochenend-Tour
ATTACH;FMTTYPE=image/jpeg:https://www.mtb-beinhart.de/wp-content/uploads/2019/03/IMG_1737-e1557948238468.jpg
END:VEVENT
BEGIN:VEVENT
DTSTART;TZID=Europe/Berlin:20190622T130000
DTEND;TZID=Europe/Berlin:20190622T170000
DTSTAMP:20260420T081410
CREATED:20190618T150317Z
LAST-MODIFIED:20190618T152120Z
UID:18547-1561208400-1561222800@www.mtb-beinhart.de
SUMMARY:Club-Tour Rheingau am 22.06.2019
DESCRIPTION:Hallo Beinharte und\nSympathisanten\, \n \n\n\n\nkurz entschlossen biete ich am Samstag den 22.06.2019  eine Clubtour im Rheingau an. Dieses mal geht’s in Richtung Schläferskopf. \n\n\n\nLos geht es um 13:00\nUhr am Parkplatz Schierstein\n„Kleinaustr.“\n \n\n\n\nDie Streckendaten:\nca. 30 km\, ca. 800 hm. \n \n\n\n\nTourbeschreibung: \n\n\n\nDie Tour wird am Parkplatz in der nähe vom Schiersteiner Hafen starten\, dann geht’s ein bisschen auf und ab. Meistens durch den Wald. Nach ungefähr 4\,0 Std. sollten wir wieder am Parkplatz ankommen. \n\n\n\nVoraussetzungen zur\nTeilnahme sind ein funktionstüchtiges MTB\, ein Helm auf dem Kopf und\nSpaß am gemeinsamen Mountainbiken. \n\n\n\nGäste sind natürlich herzlich Willkommen. Meldet Euch hier https://www.mtb-beinhart.de/kontakt/ unter Angabe der Tour an. \n\n\n\nMitglieder melden sich bitte hier https://www.mtb-beinhart.de/2019/06/18/club-tour-im-rheingau-am-22-06-19/ im Kommentarbereich an.  \n\n\n\nGruß Andreas
URL:https://www.mtb-beinhart.de/event/club-tour-im-rheingau-am-22-06-2019/
CATEGORIES:Tagestour
ATTACH;FMTTYPE=image/jpeg:https://www.mtb-beinhart.de/wp-content/uploads/2019/06/thI8RIJW0X.jpg
END:VEVENT
BEGIN:VEVENT
DTSTART;TZID=Europe/Berlin:20190608T103000
DTEND;TZID=Europe/Berlin:20190608T170000
DTSTAMP:20260420T081410
CREATED:20190606T125342Z
LAST-MODIFIED:20190606T130302Z
UID:18497-1559989800-1560013200@www.mtb-beinhart.de
SUMMARY:Lahntour 08.06.2019
DESCRIPTION:Hallo Beinharte und\nSympathisanten\, \n \n\n\n\nam Sa. 08.06.2019 biete ich eine Tour um die Lahn an. \n\n\n\nLos geht es um 10:30 Uhr in  56379 Singhofen am Martplatz \n\n\n\nDie Streckendaten:\nca. 35 km\, ca. 1100 hm. \n \n\n\n\nTourenbeschreibung: \n\n\n\nDie Tour wird am Marktplatz in Singhofen beginnen\, dann geht’s durch das Jammertal  zum Kloster Arnstein. In Obernhof machen wir einige Schleifen und fahren dann nach Nassau und  über Umwege zurück nach Singhofen. Ein Cappuccino-Pause ist in Nassau geplant. Die Tour wird voraussichtlich um die 6Std. dauern so das wir gegen 17:00 wieder am Parkplatz an kommen sollten. \n\n\n\nVoraussetzungen zur Teilnahme sind ein funktionstüchtiges MTB\, ein Helm auf dem Kopf und Spaß an flowigen Trails und sicherer Umgang mit dem Rad\, da der Weg teilweise am abschüssigen Gelände entlang führt. \n\n\n\nGäste sind natürlich herzlich Willkommen. Meldet Euch hier https://www.mtb-beinhart.de/kontakt/ unter Angabe der Tour an. \n\n\n\nBei unbrauchbarem\nWetter kommt eine Absage am Vortag. Die Tour wird dann verschoben\,\nfalls ich einen Ausweichtermin finde. \n\n\n\nMitglieder melden sich bitte hier https://www.mtb-beinhart.de/2019/06/06/08-06-2019-lahntour im Kommentarbereich an.   \n\n\n\nGruß Andreas
URL:https://www.mtb-beinhart.de/event/lahntour-08-06-2019/
CATEGORIES:Tagestour
ATTACH;FMTTYPE=image/jpeg:https://www.mtb-beinhart.de/wp-content/uploads/2019/06/ww_obernhof_kloster_arnstein-000.jpg
END:VEVENT
BEGIN:VEVENT
DTSTART;VALUE=DATE:20190518
DTEND;VALUE=DATE:20190519
DTSTAMP:20260420T081410
CREATED:20190515T093458Z
LAST-MODIFIED:20190516T145124Z
UID:18330-1558137600-1558223999@www.mtb-beinhart.de
SUMMARY:Club-Tour im Rheingau
DESCRIPTION:Hallo Beinharte und Sympathisanten\, \n\n\n\nam kommenden Samstag den 18.05.2019 biete ich eine Clubtour im Rheingau an. \n\n\n\nLos geht es um 13:00 Uhr am Parkplatz Schierstein „Kleinaustr.“ \n\n\n\nDie Streckendaten: ca. 35 km\, ca. 900 hm. \n\n\n\nTourbeschreibung: \n\n\n\nDie Tour wird am Parkplatz in der nähe vom Schiersteiner Hafen starten\, dann geht’s ein bisschen auf und ab. Um Kloster Eberbach herum. Nach ungefähr 4\,0 Std. sollten wir wieder am Parkplatz ankommen. \n\n\n\nVoraussetzungen zur Teilnahme sind ein funktionstüchtiges MTB\, ein Helm auf dem Kopf und Spaß am gemeinsamen Mountainbiken. \n\n\n\nGäste sind natürlich herzlich Willkommen. \n\n\n\nBis jetzt sieht die Wettervorhersage strahlenden Sonnenschein vor. \n\n\n\nAnmeldungen bitte hier. \n\n\n\nGruß Andreas
URL:https://www.mtb-beinhart.de/event/club-tour-im-rheingau/
CATEGORIES:Tagestour
END:VEVENT
BEGIN:VEVENT
DTSTART;TZID=Europe/Berlin:20190501T110000
DTEND;TZID=Europe/Berlin:20190501T160000
DTSTAMP:20260420T081410
CREATED:20190330T115220Z
LAST-MODIFIED:20190401T083432Z
UID:17988-1556708400-1556726400@www.mtb-beinhart.de
SUMMARY:Genusstour Donnersberg am ersten Mai
DESCRIPTION:Ihr seid herzlich zu einer ersten Maitour am althergebrachten Beinhartrevier „Donnersberg“ eingeladen. \n  \nGeboten werden feine Trails\, die wir aber – wie es sich nach einer durchtanzten Nacht gehört – locker und ohne jegliche Hektik abfahren werden. Die Trails bewegen sich auf S1 – S2 Niveau\, haben auch Schlüsselstellen (Kehren\, Absätze)\, die man aber auch jederzeit tragender- / schiebenderweise überwinden kann. Wir nehmen uns gerne auch Zeit zum Üben. \n  \nDie Streckendaten belaufen sich auf: \nca. 20 km \nrund 800 hm \nTreffpunkt ist um 11.00 Uhr an der Bergbauerlebniswelt „Imsbach“ – Beschildrung „Weiße Grube“. \n  \nBitte nehmt auch ein Becherchen für unterwegs mit. \n  \nEure Gardinen \nJuli und Ariane \n  \n  \n 
URL:https://www.mtb-beinhart.de/event/genusstour-donnersberg-am-ersten-mai/
CATEGORIES:Tagestour
END:VEVENT
BEGIN:VEVENT
DTSTART;TZID=Europe/Berlin:20190414T103000
DTEND;TZID=Europe/Berlin:20190414T103000
DTSTAMP:20260420T081410
CREATED:20190411T165151Z
LAST-MODIFIED:20190411T165428Z
UID:18205-1555237800-1555237800@www.mtb-beinhart.de
SUMMARY:Pfälzer Wald
DESCRIPTION:
URL:https://www.mtb-beinhart.de/event/pfaelzer-wald/
END:VEVENT
END:VCALENDAR