BEGIN:VCALENDAR
VERSION:2.0
PRODID:-//Mountainbike-Club Beinhart e.V. - ECPv5.14.1//NONSGML v1.0//EN
CALSCALE:GREGORIAN
METHOD:PUBLISH
X-WR-CALNAME:Mountainbike-Club Beinhart e.V.
X-ORIGINAL-URL:https://www.mtb-beinhart.de
X-WR-CALDESC:Veranstaltungen für Mountainbike-Club Beinhart e.V.
REFRESH-INTERVAL;VALUE=DURATION:PT1H
X-Robots-Tag:noindex
X-PUBLISHED-TTL:PT1H
BEGIN:VTIMEZONE
TZID:Europe/Berlin
BEGIN:DAYLIGHT
TZOFFSETFROM:+0100
TZOFFSETTO:+0200
TZNAME:CEST
DTSTART:20200329T010000
END:DAYLIGHT
BEGIN:STANDARD
TZOFFSETFROM:+0200
TZOFFSETTO:+0100
TZNAME:CET
DTSTART:20201025T010000
END:STANDARD
END:VTIMEZONE
BEGIN:VEVENT
DTSTART;TZID=Europe/Berlin:20200228T190000
DTEND;TZID=Europe/Berlin:20200228T210000
DTSTAMP:20260420T083323
CREATED:20200207T084903Z
LAST-MODIFIED:20200207T084905Z
UID:19099-1582916400-1582923600@www.mtb-beinhart.de
SUMMARY:Mitgliederversammlung am 28.02.2020
DESCRIPTION:Einladung zur Mitgliederversammlung
URL:https://www.mtb-beinhart.de/event/mitgliederversammlung-am-28-02-2020/
END:VEVENT
END:VCALENDAR