BEGIN:VCALENDAR
VERSION:2.0
PRODID:-//Mountainbike-Club Beinhart e.V. - ECPv5.14.1//NONSGML v1.0//EN
CALSCALE:GREGORIAN
METHOD:PUBLISH
X-WR-CALNAME:Mountainbike-Club Beinhart e.V.
X-ORIGINAL-URL:https://www.mtb-beinhart.de
X-WR-CALDESC:Veranstaltungen für Mountainbike-Club Beinhart e.V.
REFRESH-INTERVAL;VALUE=DURATION:PT1H
X-Robots-Tag:noindex
X-PUBLISHED-TTL:PT1H
BEGIN:VTIMEZONE
TZID:Europe/Berlin
BEGIN:DAYLIGHT
TZOFFSETFROM:+0100
TZOFFSETTO:+0200
TZNAME:CEST
DTSTART:20190331T010000
END:DAYLIGHT
BEGIN:STANDARD
TZOFFSETFROM:+0200
TZOFFSETTO:+0100
TZNAME:CET
DTSTART:20191027T010000
END:STANDARD
END:VTIMEZONE
BEGIN:VEVENT
DTSTART;TZID=Europe/Berlin:20190810T000000
DTEND;TZID=Europe/Berlin:20190817T235900
DTSTAMP:20260420T085503
CREATED:20190413T072352Z
LAST-MODIFIED:20190611T155517Z
UID:18208-1565395200-1566086340@www.mtb-beinhart.de
SUMMARY:[Clubtour] Münstertal\, same same but different
DESCRIPTION:Wie auch im letzten Jahr schon\, geht es im August wieder hoch hinaus. Wir beradeln die Ecke am Stilfserjoch und die weitläufige Umgebung. \nTeilweise sind wir auf über 3000m Höhe unterwegs und genießen ein atemberaubendes Panorama.\nCo-Guide Thomas und ich führen Euch zu diesen Leckerbissen die diese Ecke zu bieten hat.\nHiglights wie \n\nUinaschlucht\nGoldseetrail\nForcola\, Val Mora\nTibettrail\nMadritschjoch\n\nstehen auf dem Programm \nDie Touren haben alle zwischen 80-100Km und über 2000hm\, teilweise sogar 2800.\nDaher ist diese Wochentour nur für fortgeschrittene MTB Fahrer mit guter Fahrtechnik und sehr guter Kondition geeignet.\nSorry\, wenn ich dem Einen oder Anderen schon abgesagt habe\, oder dies noch tun werde. *** \nHotelkosten ca. 65€ für HP/Person/Tag im DZ. \n***\nVielleicht klappt es im Herbst noch mit einer weiteren Tourenwoche in den Südvogesen. Dort warten unendlich lange und flowige Singletrails darauf befahren zu werden. Wer Interesse hat\, bitte melden.
URL:https://www.mtb-beinhart.de/event/clubtour-muenstertal-same-same-but-different/
CATEGORIES:Wochentour
ATTACH;FMTTYPE=image/jpeg:https://www.mtb-beinhart.de/wp-content/uploads/2019/04/20180813_083519-mk.jpg
ORGANIZER;CN="Matthias":MAILTO:matthias.knopf@gmx.de
END:VEVENT
END:VCALENDAR