BEGIN:VCALENDAR
VERSION:2.0
PRODID:-//Mountainbike-Club Beinhart e.V. - ECPv5.14.1//NONSGML v1.0//EN
CALSCALE:GREGORIAN
METHOD:PUBLISH
X-WR-CALNAME:Mountainbike-Club Beinhart e.V.
X-ORIGINAL-URL:https://www.mtb-beinhart.de
X-WR-CALDESC:Veranstaltungen für Mountainbike-Club Beinhart e.V.
REFRESH-INTERVAL;VALUE=DURATION:PT1H
X-Robots-Tag:noindex
X-PUBLISHED-TTL:PT1H
BEGIN:VTIMEZONE
TZID:Europe/Berlin
BEGIN:DAYLIGHT
TZOFFSETFROM:+0100
TZOFFSETTO:+0200
TZNAME:CEST
DTSTART:20190331T010000
END:DAYLIGHT
BEGIN:STANDARD
TZOFFSETFROM:+0200
TZOFFSETTO:+0100
TZNAME:CET
DTSTART:20191027T010000
END:STANDARD
END:VTIMEZONE
BEGIN:VEVENT
DTSTART;TZID=Europe/Berlin:20190831T160000
DTEND;TZID=Europe/Berlin:20190831T220000
DTSTAMP:20260420T070732
CREATED:20190718T130057Z
LAST-MODIFIED:20190718T133353Z
UID:18722-1567267200-1567288800@www.mtb-beinhart.de
SUMMARY:Beinhartes Sommerfest am 31.08.2019
DESCRIPTION:Beinhartes Sommerfest am 31.08.2019 „Chill & Grill“
URL:https://www.mtb-beinhart.de/event/beinhartes-sommerfest-am-31-08-2019/
END:VEVENT
END:VCALENDAR